BEGIN:VCALENDAR
PRODID:-//Microsoft Corporation//Outlook 11.0 MIMEDIR//EN
VERSION:2.0
METHOD:PUBLISH
BEGIN:VEVENT
DTSTART:2021-07-23T01:00:00Z
DTEND:2021-07-23T03:30:00Z
LOCATION:HV1: Hidden Valley, Field 1
CATEGORIES:Softball,The Extras,BB/SAA
UID:9721654FA4F78841A8D067AA3DF3D8B:
DTSTAMP:2026-04-20T10:03:17Z:
SUMMARY:The Extras at Booze on First
DESCRIPTION;ENCODING=QUOTED-PRINTABLE:The Extras at Booze on First=0D=0A Time: 6:00 PM=0D=0A Location: Hidden Valley, Field 1
CLASS:PUBLIC
PRIORITY:5
BEGIN:VALARM
TRIGGER:-PT180M
ACTION:DISPLAY
DESCRIPTION:Reminder
END:VALARM
END:VEVENT
BEGIN:VEVENT
DTSTART:2021-07-30T01:00:00Z
DTEND:2021-07-30T03:30:00Z
LOCATION:HV1: Hidden Valley, Field 1
CATEGORIES:Softball,The Extras,BB/SAA
UID:3A8B1B24FC676F4CBDEFD40C9A8DEE4:
DTSTAMP:2026-04-20T10:03:17Z:
SUMMARY:Base Invaders at The Extras
DESCRIPTION;ENCODING=QUOTED-PRINTABLE:Base Invaders at The Extras=0D=0A Time: 6:00 PM=0D=0A Location: Hidden Valley, Field 1
CLASS:PUBLIC
PRIORITY:5
BEGIN:VALARM
TRIGGER:-PT180M
ACTION:DISPLAY
DESCRIPTION:Reminder
END:VALARM
END:VEVENT
BEGIN:VEVENT
DTSTART:2021-08-06T01:00:00Z
DTEND:2021-08-06T03:30:00Z
LOCATION:HV1: Hidden Valley, Field 1
CATEGORIES:Softball,The Extras,BB/SAA
UID:76B47EF6AD9F474C8C128EF85A74458C:
DTSTAMP:2026-04-20T10:03:17Z:
SUMMARY:The Extras at Regulators
DESCRIPTION;ENCODING=QUOTED-PRINTABLE:The Extras at Regulators=0D=0A Time: 6:00 PM=0D=0A Location: Hidden Valley, Field 1
CLASS:PUBLIC
PRIORITY:5
BEGIN:VALARM
TRIGGER:-PT180M
ACTION:DISPLAY
DESCRIPTION:Reminder
END:VALARM
END:VEVENT
BEGIN:VEVENT
DTSTART:2021-08-13T03:30:00Z
DTEND:2021-08-13T06:00:00Z
LOCATION:MM7: Marymoor, Field 7
CATEGORIES:Softball,The Extras,BB/SAA
UID:20D7E0B63F26C4A8DABA71B18399AB6:
DTSTAMP:2026-04-20T10:03:17Z:
SUMMARY:Booze on First at The Extras
DESCRIPTION;ENCODING=QUOTED-PRINTABLE:Booze on First at The Extras=0D=0A Time: 8:30 PM=0D=0A Location: Marymoor, Field 7
CLASS:PUBLIC
PRIORITY:5
BEGIN:VALARM
TRIGGER:-PT330M
ACTION:DISPLAY
DESCRIPTION:Reminder
END:VALARM
END:VEVENT
BEGIN:VEVENT
DTSTART:2021-08-20T03:30:00Z
DTEND:2021-08-20T06:00:00Z
LOCATION:HV1: Hidden Valley, Field 1
CATEGORIES:Softball,The Extras,BB/SAA
UID:45C8C699CEA59D4DA7E496CFA5CF69A:
DTSTAMP:2026-04-20T10:03:17Z:
SUMMARY:Base Invaders at The Extras
DESCRIPTION;ENCODING=QUOTED-PRINTABLE:Base Invaders at The Extras=0D=0A Time: 8:30 PM=0D=0A Location: Hidden Valley, Field 1
CLASS:PUBLIC
PRIORITY:5
BEGIN:VALARM
TRIGGER:-PT330M
ACTION:DISPLAY
DESCRIPTION:Reminder
END:VALARM
END:VEVENT
BEGIN:VEVENT
DTSTART:2021-08-27T03:30:00Z
DTEND:2021-08-27T06:00:00Z
LOCATION:MM7: Marymoor, Field 7
CATEGORIES:Softball,The Extras,BB/SAA
UID:18D43C0B1AFEA4D86983D36B05DC15B:
DTSTAMP:2026-04-20T10:03:17Z:
SUMMARY:The Extras at Regulators
DESCRIPTION;ENCODING=QUOTED-PRINTABLE:The Extras at Regulators=0D=0A Time: 8:30 PM=0D=0A Location: Marymoor, Field 7
CLASS:PUBLIC
PRIORITY:5
BEGIN:VALARM
TRIGGER:-PT330M
ACTION:DISPLAY
DESCRIPTION:Reminder
END:VALARM
END:VEVENT
BEGIN:VEVENT
DTSTART:2021-09-03T03:30:00Z
DTEND:2021-09-03T06:00:00Z
LOCATION:HV1: Hidden Valley, Field 1
CATEGORIES:Softball,The Extras,BB/SAA
UID:2B6A4882181DC468C42FEC22312B744:
DTSTAMP:2026-04-20T10:03:17Z:
SUMMARY:The Extras at Booze on First
DESCRIPTION;ENCODING=QUOTED-PRINTABLE:The Extras at Booze on First=0D=0A Time: 8:30 PM=0D=0A Location: Hidden Valley, Field 1
CLASS:PUBLIC
PRIORITY:5
BEGIN:VALARM
TRIGGER:-PT330M
ACTION:DISPLAY
DESCRIPTION:Reminder
END:VALARM
END:VEVENT
BEGIN:VEVENT
DTSTART:2021-09-10T01:00:00Z
DTEND:2021-09-10T03:30:00Z
LOCATION:MM7: Marymoor, Field 7
CATEGORIES:Softball,The Extras,BB/SAA
UID:CE5CA02A99EBF4FB5CC4B891429E18D:
DTSTAMP:2026-04-20T10:03:17Z:
SUMMARY:Base Invaders at The Extras
DESCRIPTION;ENCODING=QUOTED-PRINTABLE:Base Invaders at The Extras=0D=0A Time: 6:00 PM=0D=0A Location: Marymoor, Field 7
CLASS:PUBLIC
PRIORITY:5
BEGIN:VALARM
TRIGGER:-PT180M
ACTION:DISPLAY
DESCRIPTION:Reminder
END:VALARM
END:VEVENT
END:VCALENDAR
