BEGIN:VCALENDAR
PRODID:-//Microsoft Corporation//Outlook 11.0 MIMEDIR//EN
VERSION:2.0
METHOD:PUBLISH
BEGIN:VEVENT
DTSTART:2021-07-23T03:30:00Z
DTEND:2021-07-23T06:00:00Z
LOCATION:MM7: Marymoor, Field 7
CATEGORIES:Softball,Base Invaders,BB/SAA
UID:2F30FE95C927E4B89AFA02918FDC7DF:
DTSTAMP:2026-04-20T09:59:43Z:
SUMMARY:Regulators at Base Invaders
DESCRIPTION;ENCODING=QUOTED-PRINTABLE:Regulators at Base Invaders=0D=0A Time: 8:30 PM=0D=0A Location: Marymoor, Field 7
CLASS:PUBLIC
PRIORITY:5
BEGIN:VALARM
TRIGGER:-PT330M
ACTION:DISPLAY
DESCRIPTION:Reminder
END:VALARM
END:VEVENT
BEGIN:VEVENT
DTSTART:2021-07-30T01:00:00Z
DTEND:2021-07-30T03:30:00Z
LOCATION:HV1: Hidden Valley, Field 1
CATEGORIES:Softball,Base Invaders,BB/SAA
UID:CC4D14BC48959549B7867986B620B066:
DTSTAMP:2026-04-20T09:59:43Z:
SUMMARY:Base Invaders at The Extras
DESCRIPTION;ENCODING=QUOTED-PRINTABLE:Base Invaders at The Extras=0D=0A Time: 6:00 PM=0D=0A Location: Hidden Valley, Field 1
CLASS:PUBLIC
PRIORITY:5
BEGIN:VALARM
TRIGGER:-PT180M
ACTION:DISPLAY
DESCRIPTION:Reminder
END:VALARM
END:VEVENT
BEGIN:VEVENT
DTSTART:2021-08-06T03:30:00Z
DTEND:2021-08-06T06:00:00Z
LOCATION:MM7: Marymoor, Field 7
CATEGORIES:Softball,Base Invaders,BB/SAA
UID:E631D0BDA3BB4D4EAECBA7E6FBBC1AE:
DTSTAMP:2026-04-20T09:59:43Z:
SUMMARY:Base Invaders at Booze on First
DESCRIPTION;ENCODING=QUOTED-PRINTABLE:Base Invaders at Booze on First=0D=0A Time: 8:30 PM=0D=0A Location: Marymoor, Field 7
CLASS:PUBLIC
PRIORITY:5
BEGIN:VALARM
TRIGGER:-PT330M
ACTION:DISPLAY
DESCRIPTION:Reminder
END:VALARM
END:VEVENT
BEGIN:VEVENT
DTSTART:2021-08-13T01:00:00Z
DTEND:2021-08-13T03:30:00Z
LOCATION:HV1: Hidden Valley, Field 1
CATEGORIES:Softball,Base Invaders,BB/SAA
UID:73F717F81697DF43816E1497AEC0BFA3:
DTSTAMP:2026-04-20T09:59:43Z:
SUMMARY:Regulators at Base Invaders
DESCRIPTION;ENCODING=QUOTED-PRINTABLE:Regulators at Base Invaders=0D=0A Time: 6:00 PM=0D=0A Location: Hidden Valley, Field 1
CLASS:PUBLIC
PRIORITY:5
BEGIN:VALARM
TRIGGER:-PT180M
ACTION:DISPLAY
DESCRIPTION:Reminder
END:VALARM
END:VEVENT
BEGIN:VEVENT
DTSTART:2021-08-20T03:30:00Z
DTEND:2021-08-20T06:00:00Z
LOCATION:HV1: Hidden Valley, Field 1
CATEGORIES:Softball,Base Invaders,BB/SAA
UID:A47BE12E4A45C42ABB2286DC46966E7:
DTSTAMP:2026-04-20T09:59:43Z:
SUMMARY:Base Invaders at The Extras
DESCRIPTION;ENCODING=QUOTED-PRINTABLE:Base Invaders at The Extras=0D=0A Time: 8:30 PM=0D=0A Location: Hidden Valley, Field 1
CLASS:PUBLIC
PRIORITY:5
BEGIN:VALARM
TRIGGER:-PT330M
ACTION:DISPLAY
DESCRIPTION:Reminder
END:VALARM
END:VEVENT
BEGIN:VEVENT
DTSTART:2021-08-27T01:00:00Z
DTEND:2021-08-27T03:30:00Z
LOCATION:MM7: Marymoor, Field 7
CATEGORIES:Softball,Base Invaders,BB/SAA
UID:F12E3F2EDCB4244868E91D772D8388:
DTSTAMP:2026-04-20T09:59:43Z:
SUMMARY:Booze on First at Base Invaders
DESCRIPTION;ENCODING=QUOTED-PRINTABLE:Booze on First at Base Invaders=0D=0A Time: 6:00 PM=0D=0A Location: Marymoor, Field 7
CLASS:PUBLIC
PRIORITY:5
BEGIN:VALARM
TRIGGER:-PT180M
ACTION:DISPLAY
DESCRIPTION:Reminder
END:VALARM
END:VEVENT
BEGIN:VEVENT
DTSTART:2021-09-03T01:00:00Z
DTEND:2021-09-03T03:30:00Z
LOCATION:MM7: Marymoor, Field 7
CATEGORIES:Softball,Base Invaders,BB/SAA
UID:19E1DCFEE0EEC44C9855C5E1376A483:
DTSTAMP:2026-04-20T09:59:43Z:
SUMMARY:Regulators at Base Invaders
DESCRIPTION;ENCODING=QUOTED-PRINTABLE:Regulators at Base Invaders=0D=0A Time: 6:00 PM=0D=0A Location: Marymoor, Field 7
CLASS:PUBLIC
PRIORITY:5
BEGIN:VALARM
TRIGGER:-PT180M
ACTION:DISPLAY
DESCRIPTION:Reminder
END:VALARM
END:VEVENT
BEGIN:VEVENT
DTSTART:2021-09-10T01:00:00Z
DTEND:2021-09-10T03:30:00Z
LOCATION:MM7: Marymoor, Field 7
CATEGORIES:Softball,Base Invaders,BB/SAA
UID:DE235D956C44E14F87A26523A86D8896:
DTSTAMP:2026-04-20T09:59:43Z:
SUMMARY:Base Invaders at The Extras
DESCRIPTION;ENCODING=QUOTED-PRINTABLE:Base Invaders at The Extras=0D=0A Time: 6:00 PM=0D=0A Location: Marymoor, Field 7
CLASS:PUBLIC
PRIORITY:5
BEGIN:VALARM
TRIGGER:-PT180M
ACTION:DISPLAY
DESCRIPTION:Reminder
END:VALARM
END:VEVENT
END:VCALENDAR
