BEGIN:VCALENDAR
PRODID:-//Microsoft Corporation//Outlook 11.0 MIMEDIR//EN
VERSION:2.0
METHOD:PUBLISH
BEGIN:VEVENT
DTSTART:2017-04-13T01:00:00Z
DTEND:2017-04-13T03:30:00Z
LOCATION:MM8: Marymoor, Field 8
CATEGORIES:Softball,Manchild United,BB/SAA
UID:9CF68592FF5A68459E6A9AAD261B2953:
DTSTAMP:2026-04-21T08:53:26Z:
SUMMARY:Manchild United at BC Bombers
DESCRIPTION;ENCODING=QUOTED-PRINTABLE:Manchild United at BC Bombers=0D=0A Time: 6:00 PM=0D=0A Location: Marymoor, Field 8
CLASS:PUBLIC
PRIORITY:5
BEGIN:VALARM
TRIGGER:-PT180M
ACTION:DISPLAY
DESCRIPTION:Reminder
END:VALARM
END:VEVENT
BEGIN:VEVENT
DTSTART:2017-04-20T01:00:00Z
DTEND:2017-04-20T03:30:00Z
LOCATION:HV1: Hidden Valley, Field 1
CATEGORIES:Softball,Manchild United,BB/SAA
UID:A5D0A59930F96F4AAAF4634082FDDD9:
DTSTAMP:2026-04-21T08:53:26Z:
SUMMARY:Manchild United at Goose Pub 1
DESCRIPTION;ENCODING=QUOTED-PRINTABLE:Manchild United at Goose Pub 1=0D=0A Time: 6:00 PM=0D=0A Location: Hidden Valley, Field 1
CLASS:PUBLIC
PRIORITY:5
BEGIN:VALARM
TRIGGER:-PT180M
ACTION:DISPLAY
DESCRIPTION:Reminder
END:VALARM
END:VEVENT
BEGIN:VEVENT
DTSTART:2017-05-04T01:00:00Z
DTEND:2017-05-04T03:30:00Z
LOCATION:MM8: Marymoor, Field 8
CATEGORIES:Softball,Manchild United,BB/SAA
UID:C494CDE784D48C4AA9C76B5FD12205C:
DTSTAMP:2026-04-21T08:53:26Z:
SUMMARY:BC Bombers at Manchild United
DESCRIPTION;ENCODING=QUOTED-PRINTABLE:BC Bombers at Manchild United=0D=0A Time: 6:00 PM=0D=0A Location: Marymoor, Field 8
CLASS:PUBLIC
PRIORITY:5
BEGIN:VALARM
TRIGGER:-PT180M
ACTION:DISPLAY
DESCRIPTION:Reminder
END:VALARM
END:VEVENT
BEGIN:VEVENT
DTSTART:2017-05-11T03:30:00Z
DTEND:2017-05-11T06:00:00Z
LOCATION:MM8: Marymoor, Field 8
CATEGORIES:Softball,Manchild United,BB/SAA
UID:879A97844A29A8468EF81C779759024:
DTSTAMP:2026-04-21T08:53:26Z:
SUMMARY:USCutter at Manchild United
DESCRIPTION;ENCODING=QUOTED-PRINTABLE:USCutter at Manchild United=0D=0A Time: 8:30 PM=0D=0A Location: Marymoor, Field 8
CLASS:PUBLIC
PRIORITY:5
BEGIN:VALARM
TRIGGER:-PT330M
ACTION:DISPLAY
DESCRIPTION:Reminder
END:VALARM
END:VEVENT
BEGIN:VEVENT
DTSTART:2017-05-25T02:00:00Z
DTEND:2017-05-25T04:30:00Z
LOCATION:MM8: Marymoor, Field 8
CATEGORIES:Softball,Manchild United,BB/SAA
UID:2F53F73947BD564388EFBA3636D84D7E:
DTSTAMP:2026-04-21T08:53:26Z:
SUMMARY:Manchild United at Mad Dogs
DESCRIPTION;ENCODING=QUOTED-PRINTABLE:Manchild United at Mad Dogs=0D=0A Time: 7:00 PM=0D=0A Location: Marymoor, Field 8
CLASS:PUBLIC
PRIORITY:5
BEGIN:VALARM
TRIGGER:-PT240M
ACTION:DISPLAY
DESCRIPTION:Reminder
END:VALARM
END:VEVENT
BEGIN:VEVENT
DTSTART:2017-06-01T01:00:00Z
DTEND:2017-06-01T03:30:00Z
LOCATION:MM3: Marymoor, Field 3
CATEGORIES:Softball,Manchild United,BB/SAA
UID:E7E727487FACEE4282ED96FE3976CE46:
DTSTAMP:2026-04-21T08:53:26Z:
SUMMARY:Team Shocker at Manchild United
DESCRIPTION;ENCODING=QUOTED-PRINTABLE:Team Shocker at Manchild United=0D=0A Time: 6:00 PM=0D=0A Location: Marymoor, Field 3
CLASS:PUBLIC
PRIORITY:5
BEGIN:VALARM
TRIGGER:-PT180M
ACTION:DISPLAY
DESCRIPTION:Reminder
END:VALARM
END:VEVENT
BEGIN:VEVENT
DTSTART:2017-06-08T01:00:00Z
DTEND:2017-06-08T03:30:00Z
LOCATION:MM7: Marymoor, Field 7
CATEGORIES:Softball,Manchild United,BB/SAA
UID:426B273B37AA3B4DA92A1DFCD250598B:
DTSTAMP:2026-04-21T08:53:26Z:
SUMMARY:Goose Pub 1 at Manchild United
DESCRIPTION;ENCODING=QUOTED-PRINTABLE:Goose Pub 1 at Manchild United=0D=0A Time: 6:00 PM=0D=0A Location: Marymoor, Field 7
CLASS:PUBLIC
PRIORITY:5
BEGIN:VALARM
TRIGGER:-PT180M
ACTION:DISPLAY
DESCRIPTION:Reminder
END:VALARM
END:VEVENT
BEGIN:VEVENT
DTSTART:2017-06-15T01:00:00Z
DTEND:2017-06-15T03:30:00Z
LOCATION:HV1: Hidden Valley, Field 1
CATEGORIES:Softball,Manchild United,BB/SAA
UID:AE371308F3344AAAC8159F473D9239:
DTSTAMP:2026-04-21T08:53:26Z:
SUMMARY:Manchild United at BC Bombers
DESCRIPTION;ENCODING=QUOTED-PRINTABLE:Manchild United at BC Bombers=0D=0A Time: 6:00 PM=0D=0A Location: Hidden Valley, Field 1
CLASS:PUBLIC
PRIORITY:5
BEGIN:VALARM
TRIGGER:-PT180M
ACTION:DISPLAY
DESCRIPTION:Reminder
END:VALARM
END:VEVENT
BEGIN:VEVENT
DTSTART:2017-06-22T01:00:00Z
DTEND:2017-06-22T03:30:00Z
LOCATION:MM6: Marymoor, Field 6
CATEGORIES:Softball,Manchild United,BB/SAA
UID:EA7FC15BCFB366479D98589BB13CADF:
DTSTAMP:2026-04-21T08:53:26Z:
SUMMARY:Manchild United at Team Shocker
DESCRIPTION;ENCODING=QUOTED-PRINTABLE:Manchild United at Team Shocker=0D=0A Time: 6:00 PM=0D=0A Location: Marymoor, Field 6
CLASS:PUBLIC
PRIORITY:5
BEGIN:VALARM
TRIGGER:-PT180M
ACTION:DISPLAY
DESCRIPTION:Reminder
END:VALARM
END:VEVENT
BEGIN:VEVENT
DTSTART:2017-07-06T02:15:00Z
DTEND:2017-07-06T04:45:00Z
LOCATION:HP1: Highland Park, Field 1
CATEGORIES:Softball,Manchild United,BB/SAA
UID:3E6E16C6A112F34CBADF80C1D215F9F5:
DTSTAMP:2026-04-21T08:53:26Z:
SUMMARY:Mad Dogs at Manchild United
DESCRIPTION;ENCODING=QUOTED-PRINTABLE:Mad Dogs at Manchild United=0D=0A Time: 7:15 PM=0D=0A Location: Highland Park, Field 1
CLASS:PUBLIC
PRIORITY:5
BEGIN:VALARM
TRIGGER:-PT255M
ACTION:DISPLAY
DESCRIPTION:Reminder
END:VALARM
END:VEVENT
BEGIN:VEVENT
DTSTART:2017-07-06T03:30:00Z
DTEND:2017-07-06T06:00:00Z
LOCATION:HP1: Highland Park, Field 1
CATEGORIES:Softball,Manchild United,BB/SAA
UID:952D34DC60204847A6D857DD6B3BEAC8:
DTSTAMP:2026-04-21T08:53:26Z:
SUMMARY:Goose Pub 1 at Manchild United
DESCRIPTION;ENCODING=QUOTED-PRINTABLE:Goose Pub 1 at Manchild United=0D=0A Time: 8:30 PM=0D=0A Location: Highland Park, Field 1
CLASS:PUBLIC
PRIORITY:5
BEGIN:VALARM
TRIGGER:-PT330M
ACTION:DISPLAY
DESCRIPTION:Reminder
END:VALARM
END:VEVENT
END:VCALENDAR
