BEGIN:VCALENDAR
PRODID:-//Microsoft Corporation//Outlook 11.0 MIMEDIR//EN
VERSION:2.0
METHOD:PUBLISH
BEGIN:VEVENT
DTSTART:2016-04-14T03:30:00Z
DTEND:2016-04-14T06:00:00Z
LOCATION:HV1: Hidden Valley, Field 1
CATEGORIES:Softball,Silver Foxes,BB/SAA
UID:79A6B6D1425234EB99B319618F85CF2:
DTSTAMP:2026-04-23T10:17:14Z:
SUMMARY:Silver Foxes at Moneyballs
DESCRIPTION;ENCODING=QUOTED-PRINTABLE:Silver Foxes at Moneyballs=0D=0A Time: 8:30 PM=0D=0A Location: Hidden Valley, Field 1
CLASS:PUBLIC
PRIORITY:5
BEGIN:VALARM
TRIGGER:-PT330M
ACTION:DISPLAY
DESCRIPTION:Reminder
END:VALARM
END:VEVENT
BEGIN:VEVENT
DTSTART:2016-04-21T03:30:00Z
DTEND:2016-04-21T06:00:00Z
LOCATION:HV1: Hidden Valley, Field 1
CATEGORIES:Softball,Silver Foxes,BB/SAA
UID:80FD303CF4A2B34FB01465DA4FDFF5A2:
DTSTAMP:2026-04-23T10:17:14Z:
SUMMARY:Rolling Blackouts at Silver Foxes
DESCRIPTION;ENCODING=QUOTED-PRINTABLE:Rolling Blackouts at Silver Foxes=0D=0A Time: 8:30 PM=0D=0A Location: Hidden Valley, Field 1
CLASS:PUBLIC
PRIORITY:5
BEGIN:VALARM
TRIGGER:-PT330M
ACTION:DISPLAY
DESCRIPTION:Reminder
END:VALARM
END:VEVENT
BEGIN:VEVENT
DTSTART:2016-04-29T03:30:00Z
DTEND:2016-04-29T06:00:00Z
LOCATION:HP1: Highland Park, Field 1
CATEGORIES:Softball,Silver Foxes,BB/SAA
UID:A18EA6C4A643B342852F6A37AC6CDC:
DTSTAMP:2026-04-23T10:17:14Z:
SUMMARY:Bullseye Construction/Kona K at Silver Foxes
DESCRIPTION;ENCODING=QUOTED-PRINTABLE:Bullseye Construction/Kona K at Silver Foxes=0D=0A Time: 8:30 PM=0D=0A Location: Highland Park, Field 1
CLASS:PUBLIC
PRIORITY:5
BEGIN:VALARM
TRIGGER:-PT330M
ACTION:DISPLAY
DESCRIPTION:Reminder
END:VALARM
END:VEVENT
BEGIN:VEVENT
DTSTART:2016-05-05T01:00:00Z
DTEND:2016-05-05T03:30:00Z
LOCATION:MM8: Marymoor, Field 8
CATEGORIES:Softball,Silver Foxes,BB/SAA
UID:B3B351F543E1FB4EB99929518FB950F3:
DTSTAMP:2026-04-23T10:17:14Z:
SUMMARY:Silver Foxes at Liquid Lime
DESCRIPTION;ENCODING=QUOTED-PRINTABLE:Silver Foxes at Liquid Lime=0D=0A Time: 6:00 PM=0D=0A Location: Marymoor, Field 8
CLASS:PUBLIC
PRIORITY:5
BEGIN:VALARM
TRIGGER:-PT180M
ACTION:DISPLAY
DESCRIPTION:Reminder
END:VALARM
END:VEVENT
BEGIN:VEVENT
DTSTART:2016-05-12T01:00:00Z
DTEND:2016-05-12T03:30:00Z
LOCATION:MM8: Marymoor, Field 8
CATEGORIES:Softball,Silver Foxes,BB/SAA
UID:CD3068C0472BF74ABEC3D7D515AF7C73:
DTSTAMP:2026-04-23T10:17:14Z:
SUMMARY:Goose Pub 1 at Silver Foxes
DESCRIPTION;ENCODING=QUOTED-PRINTABLE:Goose Pub 1 at Silver Foxes=0D=0A Time: 6:00 PM=0D=0A Location: Marymoor, Field 8
CLASS:PUBLIC
PRIORITY:5
BEGIN:VALARM
TRIGGER:-PT180M
ACTION:DISPLAY
DESCRIPTION:Reminder
END:VALARM
END:VEVENT
BEGIN:VEVENT
DTSTART:2016-05-19T01:00:00Z
DTEND:2016-05-19T03:30:00Z
LOCATION:HP1: Highland Park, Field 1
CATEGORIES:Softball,Silver Foxes,BB/SAA
UID:B1693328B3C8DB409EEA3C80EC23B9C1:
DTSTAMP:2026-04-23T10:17:14Z:
SUMMARY:Silver Foxes at Pitches Be Trippin
DESCRIPTION;ENCODING=QUOTED-PRINTABLE:Silver Foxes at Pitches Be Trippin=0D=0A Time: 6:00 PM=0D=0A Location: Highland Park, Field 1
CLASS:PUBLIC
PRIORITY:5
BEGIN:VALARM
TRIGGER:-PT180M
ACTION:DISPLAY
DESCRIPTION:Reminder
END:VALARM
END:VEVENT
BEGIN:VEVENT
DTSTART:2016-05-26T03:30:00Z
DTEND:2016-05-26T06:00:00Z
LOCATION:MM7: Marymoor, Field 7
CATEGORIES:Softball,Silver Foxes,BB/SAA
UID:EE0ABFF97DD4EA3464C15FFA124C:
DTSTAMP:2026-04-23T10:17:14Z:
SUMMARY:Silver Foxes at Regulators
DESCRIPTION;ENCODING=QUOTED-PRINTABLE:Silver Foxes at Regulators=0D=0A Time: 8:30 PM=0D=0A Location: Marymoor, Field 7
CLASS:PUBLIC
PRIORITY:5
BEGIN:VALARM
TRIGGER:-PT330M
ACTION:DISPLAY
DESCRIPTION:Reminder
END:VALARM
END:VEVENT
BEGIN:VEVENT
DTSTART:2016-06-02T03:30:00Z
DTEND:2016-06-02T06:00:00Z
LOCATION:HV1: Hidden Valley, Field 1
CATEGORIES:Softball,Silver Foxes,BB/SAA
UID:E6F24DEEB133FF488B2F3289A9D87C63:
DTSTAMP:2026-04-23T10:17:14Z:
SUMMARY:Rolling Blackouts at Silver Foxes
DESCRIPTION;ENCODING=QUOTED-PRINTABLE:Rolling Blackouts at Silver Foxes=0D=0A Time: 8:30 PM=0D=0A Location: Hidden Valley, Field 1
CLASS:PUBLIC
PRIORITY:5
BEGIN:VALARM
TRIGGER:-PT330M
ACTION:DISPLAY
DESCRIPTION:Reminder
END:VALARM
END:VEVENT
BEGIN:VEVENT
DTSTART:2016-06-09T01:00:00Z
DTEND:2016-06-09T03:30:00Z
LOCATION:HV1: Hidden Valley, Field 1
CATEGORIES:Softball,Silver Foxes,BB/SAA
UID:15E1303A7BB574C8C2E2B3BF8F2FEDD:
DTSTAMP:2026-04-23T10:17:14Z:
SUMMARY:Silver Foxes at Moneyballs
DESCRIPTION;ENCODING=QUOTED-PRINTABLE:Silver Foxes at Moneyballs=0D=0A Time: 6:00 PM=0D=0A Location: Hidden Valley, Field 1
CLASS:PUBLIC
PRIORITY:5
BEGIN:VALARM
TRIGGER:-PT180M
ACTION:DISPLAY
DESCRIPTION:Reminder
END:VALARM
END:VEVENT
END:VCALENDAR
