BEGIN:VCALENDAR
PRODID:-//Microsoft Corporation//Outlook 11.0 MIMEDIR//EN
VERSION:2.0
METHOD:PUBLISH
BEGIN:VEVENT
DTSTART:2016-04-14T01:00:00Z
DTEND:2016-04-14T03:30:00Z
LOCATION:HV1: Hidden Valley, Field 1
CATEGORIES:Softball,Regulators,BB/SAA
UID:43F9E30CCF5CC4999814457206FA093:
DTSTAMP:2026-04-23T10:15:29Z:
SUMMARY:Liquid Lime at Regulators
DESCRIPTION;ENCODING=QUOTED-PRINTABLE:Liquid Lime at Regulators=0D=0A Time: 6:00 PM=0D=0A Location: Hidden Valley, Field 1
CLASS:PUBLIC
PRIORITY:5
BEGIN:VALARM
TRIGGER:-PT180M
ACTION:DISPLAY
DESCRIPTION:Reminder
END:VALARM
END:VEVENT
BEGIN:VEVENT
DTSTART:2016-04-22T01:00:00Z
DTEND:2016-04-22T03:30:00Z
LOCATION:HP1: Highland Park, Field 1
CATEGORIES:Softball,Regulators,BB/SAA
UID:F522C4F534DDB41A59ED74550488F5A:
DTSTAMP:2026-04-23T10:15:29Z:
SUMMARY:Regulators at Bullseye Construction/Kona K
DESCRIPTION;ENCODING=QUOTED-PRINTABLE:Regulators at Bullseye Construction/Kona K=0D=0A Time: 6:00 PM=0D=0A Location: Highland Park, Field 1
CLASS:PUBLIC
PRIORITY:5
BEGIN:VALARM
TRIGGER:-PT180M
ACTION:DISPLAY
DESCRIPTION:Reminder
END:VALARM
END:VEVENT
BEGIN:VEVENT
DTSTART:2016-04-28T03:00:00Z
DTEND:2016-04-28T05:30:00Z
LOCATION:MM8: Marymoor, Field 8
CATEGORIES:Softball,Regulators,BB/SAA
UID:ED2C9C5C1A3237499167969F95165B5D:
DTSTAMP:2026-04-23T10:15:29Z:
SUMMARY:Regulators at Rolling Blackouts
DESCRIPTION;ENCODING=QUOTED-PRINTABLE:Regulators at Rolling Blackouts=0D=0A Time: 8:00 PM=0D=0A Location: Marymoor, Field 8
CLASS:PUBLIC
PRIORITY:5
BEGIN:VALARM
TRIGGER:-PT300M
ACTION:DISPLAY
DESCRIPTION:Reminder
END:VALARM
END:VEVENT
BEGIN:VEVENT
DTSTART:2016-05-05T03:30:00Z
DTEND:2016-05-05T06:00:00Z
LOCATION:HP1: Highland Park, Field 1
CATEGORIES:Softball,Regulators,BB/SAA
UID:F117619D6DE964BB6EF59BA8FFFDD74:
DTSTAMP:2026-04-23T10:15:29Z:
SUMMARY:Pitches Be Trippin at Regulators
DESCRIPTION;ENCODING=QUOTED-PRINTABLE:Pitches Be Trippin at Regulators=0D=0A Time: 8:30 PM=0D=0A Location: Highland Park, Field 1
CLASS:PUBLIC
PRIORITY:5
BEGIN:VALARM
TRIGGER:-PT330M
ACTION:DISPLAY
DESCRIPTION:Reminder
END:VALARM
END:VEVENT
BEGIN:VEVENT
DTSTART:2016-05-12T03:30:00Z
DTEND:2016-05-12T06:00:00Z
LOCATION:MM7: Marymoor, Field 7
CATEGORIES:Softball,Regulators,BB/SAA
UID:BF467962B8E011409DA6CB31DCC675DC:
DTSTAMP:2026-04-23T10:15:29Z:
SUMMARY:Regulators at Moneyballs
DESCRIPTION;ENCODING=QUOTED-PRINTABLE:Regulators at Moneyballs=0D=0A Time: 8:30 PM=0D=0A Location: Marymoor, Field 7
CLASS:PUBLIC
PRIORITY:5
BEGIN:VALARM
TRIGGER:-PT330M
ACTION:DISPLAY
DESCRIPTION:Reminder
END:VALARM
END:VEVENT
BEGIN:VEVENT
DTSTART:2016-05-19T03:30:00Z
DTEND:2016-05-19T06:00:00Z
LOCATION:MM7: Marymoor, Field 7
CATEGORIES:Softball,Regulators,BB/SAA
UID:FB62AE67E12F64488BA5A1955A06FA8:
DTSTAMP:2026-04-23T10:15:29Z:
SUMMARY:Goose Pub 1 at Regulators
DESCRIPTION;ENCODING=QUOTED-PRINTABLE:Goose Pub 1 at Regulators=0D=0A Time: 8:30 PM=0D=0A Location: Marymoor, Field 7
CLASS:PUBLIC
PRIORITY:5
BEGIN:VALARM
TRIGGER:-PT330M
ACTION:DISPLAY
DESCRIPTION:Reminder
END:VALARM
END:VEVENT
BEGIN:VEVENT
DTSTART:2016-05-26T03:30:00Z
DTEND:2016-05-26T06:00:00Z
LOCATION:MM7: Marymoor, Field 7
CATEGORIES:Softball,Regulators,BB/SAA
UID:DD45F2DC53B3C94D9CC9E8438F308CAC:
DTSTAMP:2026-04-23T10:15:29Z:
SUMMARY:Silver Foxes at Regulators
DESCRIPTION;ENCODING=QUOTED-PRINTABLE:Silver Foxes at Regulators=0D=0A Time: 8:30 PM=0D=0A Location: Marymoor, Field 7
CLASS:PUBLIC
PRIORITY:5
BEGIN:VALARM
TRIGGER:-PT330M
ACTION:DISPLAY
DESCRIPTION:Reminder
END:VALARM
END:VEVENT
BEGIN:VEVENT
DTSTART:2016-06-03T01:00:00Z
DTEND:2016-06-03T03:30:00Z
LOCATION:HV1: Hidden Valley, Field 1
CATEGORIES:Softball,Regulators,BB/SAA
UID:6339DC32AFC6734786EA8C739C64BCBC:
DTSTAMP:2026-04-23T10:15:29Z:
SUMMARY:Regulators at Bullseye Construction/Kona K
DESCRIPTION;ENCODING=QUOTED-PRINTABLE:Regulators at Bullseye Construction/Kona K=0D=0A Time: 6:00 PM=0D=0A Location: Hidden Valley, Field 1
CLASS:PUBLIC
PRIORITY:5
BEGIN:VALARM
TRIGGER:-PT180M
ACTION:DISPLAY
DESCRIPTION:Reminder
END:VALARM
END:VEVENT
BEGIN:VEVENT
DTSTART:2016-06-09T02:30:00Z
DTEND:2016-06-09T05:00:00Z
LOCATION:HV1: Hidden Valley, Field 1
CATEGORIES:Softball,Regulators,BB/SAA
UID:75852F61F03D144886B6AACA2A74CCF9:
DTSTAMP:2026-04-23T10:15:29Z:
SUMMARY:Regulators at Rolling Blackouts
DESCRIPTION;ENCODING=QUOTED-PRINTABLE:Regulators at Rolling Blackouts=0D=0A Time: 7:30 PM=0D=0A Location: Hidden Valley, Field 1
CLASS:PUBLIC
PRIORITY:5
BEGIN:VALARM
TRIGGER:-PT270M
ACTION:DISPLAY
DESCRIPTION:Reminder
END:VALARM
END:VEVENT
END:VCALENDAR
