BEGIN:VCALENDAR
PRODID:-//Microsoft Corporation//Outlook 11.0 MIMEDIR//EN
VERSION:2.0
METHOD:PUBLISH
BEGIN:VEVENT
DTSTART:2016-04-14T03:30:00Z
DTEND:2016-04-14T06:00:00Z
LOCATION:HV1: Hidden Valley, Field 1
CATEGORIES:Softball,Moneyballs,BB/SAA
UID:2FA8DBC6B6BF964F812FB382B8DF8C8:
DTSTAMP:2026-04-21T10:31:57Z:
SUMMARY:Silver Foxes at Moneyballs
DESCRIPTION;ENCODING=QUOTED-PRINTABLE:Silver Foxes at Moneyballs=0D=0A Time: 8:30 PM=0D=0A Location: Hidden Valley, Field 1
CLASS:PUBLIC
PRIORITY:5
BEGIN:VALARM
TRIGGER:-PT330M
ACTION:DISPLAY
DESCRIPTION:Reminder
END:VALARM
END:VEVENT
BEGIN:VEVENT
DTSTART:2016-04-21T01:00:00Z
DTEND:2016-04-21T03:30:00Z
LOCATION:HV1: Hidden Valley, Field 1
CATEGORIES:Softball,Moneyballs,BB/SAA
UID:1AE4EFF44DA07248A538E43B61B04526:
DTSTAMP:2026-04-21T10:31:57Z:
SUMMARY:Moneyballs at Goose Pub 1
DESCRIPTION;ENCODING=QUOTED-PRINTABLE:Moneyballs at Goose Pub 1=0D=0A Time: 6:00 PM=0D=0A Location: Hidden Valley, Field 1
CLASS:PUBLIC
PRIORITY:5
BEGIN:VALARM
TRIGGER:-PT180M
ACTION:DISPLAY
DESCRIPTION:Reminder
END:VALARM
END:VEVENT
BEGIN:VEVENT
DTSTART:2016-04-28T01:00:00Z
DTEND:2016-04-28T03:30:00Z
LOCATION:HV1: Hidden Valley, Field 1
CATEGORIES:Softball,Moneyballs,BB/SAA
UID:7C303B38697CAC44BD17AB3D57161FDF:
DTSTAMP:2026-04-21T10:31:57Z:
SUMMARY:Pitches Be Trippin at Moneyballs
DESCRIPTION;ENCODING=QUOTED-PRINTABLE:Pitches Be Trippin at Moneyballs=0D=0A Time: 6:00 PM=0D=0A Location: Hidden Valley, Field 1
CLASS:PUBLIC
PRIORITY:5
BEGIN:VALARM
TRIGGER:-PT180M
ACTION:DISPLAY
DESCRIPTION:Reminder
END:VALARM
END:VEVENT
BEGIN:VEVENT
DTSTART:2016-05-06T01:00:00Z
DTEND:2016-05-06T03:30:00Z
LOCATION:HP1: Highland Park, Field 1
CATEGORIES:Softball,Moneyballs,BB/SAA
UID:723EF249A3471418CED8F917F16263E:
DTSTAMP:2026-04-21T10:31:57Z:
SUMMARY:Moneyballs at Bullseye Construction/Kona K
DESCRIPTION;ENCODING=QUOTED-PRINTABLE:Moneyballs at Bullseye Construction/Kona K=0D=0A Time: 6:00 PM=0D=0A Location: Highland Park, Field 1
CLASS:PUBLIC
PRIORITY:5
BEGIN:VALARM
TRIGGER:-PT180M
ACTION:DISPLAY
DESCRIPTION:Reminder
END:VALARM
END:VEVENT
BEGIN:VEVENT
DTSTART:2016-05-12T03:30:00Z
DTEND:2016-05-12T06:00:00Z
LOCATION:MM7: Marymoor, Field 7
CATEGORIES:Softball,Moneyballs,BB/SAA
UID:1E2DC991B9291A4BBB1213135B651E6D:
DTSTAMP:2026-04-21T10:31:57Z:
SUMMARY:Regulators at Moneyballs
DESCRIPTION;ENCODING=QUOTED-PRINTABLE:Regulators at Moneyballs=0D=0A Time: 8:30 PM=0D=0A Location: Marymoor, Field 7
CLASS:PUBLIC
PRIORITY:5
BEGIN:VALARM
TRIGGER:-PT330M
ACTION:DISPLAY
DESCRIPTION:Reminder
END:VALARM
END:VEVENT
BEGIN:VEVENT
DTSTART:2016-05-19T01:00:00Z
DTEND:2016-05-19T03:30:00Z
LOCATION:MM8: Marymoor, Field 8
CATEGORIES:Softball,Moneyballs,BB/SAA
UID:187F2461DCD5804689B687378B701D8C:
DTSTAMP:2026-04-21T10:31:57Z:
SUMMARY:Liquid Lime at Moneyballs
DESCRIPTION;ENCODING=QUOTED-PRINTABLE:Liquid Lime at Moneyballs=0D=0A Time: 6:00 PM=0D=0A Location: Marymoor, Field 8
CLASS:PUBLIC
PRIORITY:5
BEGIN:VALARM
TRIGGER:-PT180M
ACTION:DISPLAY
DESCRIPTION:Reminder
END:VALARM
END:VEVENT
BEGIN:VEVENT
DTSTART:2016-05-26T01:00:00Z
DTEND:2016-05-26T03:30:00Z
LOCATION:MM4: Marymoor, Field 4
CATEGORIES:Softball,Moneyballs,BB/SAA
UID:4072119D20311D46BC5ECD6138B54CF3:
DTSTAMP:2026-04-21T10:31:57Z:
SUMMARY:Moneyballs at Rolling Blackouts
DESCRIPTION;ENCODING=QUOTED-PRINTABLE:Moneyballs at Rolling Blackouts=0D=0A Time: 6:00 PM=0D=0A Location: Marymoor, Field 4
CLASS:PUBLIC
PRIORITY:5
BEGIN:VALARM
TRIGGER:-PT180M
ACTION:DISPLAY
DESCRIPTION:Reminder
END:VALARM
END:VEVENT
BEGIN:VEVENT
DTSTART:2016-06-02T01:00:00Z
DTEND:2016-06-02T03:30:00Z
LOCATION:MM3: Marymoor, Field 3
CATEGORIES:Softball,Moneyballs,BB/SAA
UID:1E15864897AE49884E14A70FB9DF0:
DTSTAMP:2026-04-21T10:31:57Z:
SUMMARY:Moneyballs at Goose Pub 1
DESCRIPTION;ENCODING=QUOTED-PRINTABLE:Moneyballs at Goose Pub 1=0D=0A Time: 6:00 PM=0D=0A Location: Marymoor, Field 3
CLASS:PUBLIC
PRIORITY:5
BEGIN:VALARM
TRIGGER:-PT180M
ACTION:DISPLAY
DESCRIPTION:Reminder
END:VALARM
END:VEVENT
BEGIN:VEVENT
DTSTART:2016-06-09T01:00:00Z
DTEND:2016-06-09T03:30:00Z
LOCATION:HV1: Hidden Valley, Field 1
CATEGORIES:Softball,Moneyballs,BB/SAA
UID:E767DB34DB40984EB3B455B51FD963F7:
DTSTAMP:2026-04-21T10:31:57Z:
SUMMARY:Silver Foxes at Moneyballs
DESCRIPTION;ENCODING=QUOTED-PRINTABLE:Silver Foxes at Moneyballs=0D=0A Time: 6:00 PM=0D=0A Location: Hidden Valley, Field 1
CLASS:PUBLIC
PRIORITY:5
BEGIN:VALARM
TRIGGER:-PT180M
ACTION:DISPLAY
DESCRIPTION:Reminder
END:VALARM
END:VEVENT
BEGIN:VEVENT
DTSTART:2016-06-09T03:45:00Z
DTEND:2016-06-09T06:15:00Z
LOCATION:HV1: Hidden Valley, Field 1
CATEGORIES:Softball,Moneyballs,BB/SAA
UID:415A678B2348F6439613AF31C16A542:
DTSTAMP:2026-04-21T10:31:57Z:
SUMMARY:Moneyballs at Rolling Blackouts
DESCRIPTION;ENCODING=QUOTED-PRINTABLE:Moneyballs at Rolling Blackouts=0D=0A Time: 8:45 PM=0D=0A Location: Hidden Valley, Field 1
CLASS:PUBLIC
PRIORITY:5
BEGIN:VALARM
TRIGGER:-PT345M
ACTION:DISPLAY
DESCRIPTION:Reminder
END:VALARM
END:VEVENT
END:VCALENDAR
