BEGIN:VCALENDAR
PRODID:-//Microsoft Corporation//Outlook 11.0 MIMEDIR//EN
VERSION:2.0
METHOD:PUBLISH
BEGIN:VEVENT
DTSTART:2016-04-15T01:00:00Z
DTEND:2016-04-15T03:30:00Z
LOCATION:HP1: Highland Park, Field 1
CATEGORIES:Softball,Bullseye Construction/Kona K,BB/SAA
UID:279B285FE8267D4BBD5AF342CE618690:
DTSTAMP:2026-04-21T10:27:34Z:
SUMMARY:Goose Pub 1 at Bullseye Construction/Kona K
DESCRIPTION;ENCODING=QUOTED-PRINTABLE:Goose Pub 1 at Bullseye Construction/Kona K=0D=0A Time: 6:00 PM=0D=0A Location: Highland Park, Field 1
CLASS:PUBLIC
PRIORITY:5
BEGIN:VALARM
TRIGGER:-PT180M
ACTION:DISPLAY
DESCRIPTION:Reminder
END:VALARM
END:VEVENT
BEGIN:VEVENT
DTSTART:2016-04-22T01:00:00Z
DTEND:2016-04-22T03:30:00Z
LOCATION:HP1: Highland Park, Field 1
CATEGORIES:Softball,Bullseye Construction/Kona K,BB/SAA
UID:95E635E8A7BF84C85E6F633FA2F6DC2:
DTSTAMP:2026-04-21T10:27:34Z:
SUMMARY:Regulators at Bullseye Construction/Kona K
DESCRIPTION;ENCODING=QUOTED-PRINTABLE:Regulators at Bullseye Construction/Kona K=0D=0A Time: 6:00 PM=0D=0A Location: Highland Park, Field 1
CLASS:PUBLIC
PRIORITY:5
BEGIN:VALARM
TRIGGER:-PT180M
ACTION:DISPLAY
DESCRIPTION:Reminder
END:VALARM
END:VEVENT
BEGIN:VEVENT
DTSTART:2016-04-29T03:30:00Z
DTEND:2016-04-29T06:00:00Z
LOCATION:HP1: Highland Park, Field 1
CATEGORIES:Softball,Bullseye Construction/Kona K,BB/SAA
UID:DECF25A0F0BC214ABC67893A7D52F28C:
DTSTAMP:2026-04-21T10:27:34Z:
SUMMARY:Bullseye Construction/Kona K at Silver Foxes
DESCRIPTION;ENCODING=QUOTED-PRINTABLE:Bullseye Construction/Kona K at Silver Foxes=0D=0A Time: 8:30 PM=0D=0A Location: Highland Park, Field 1
CLASS:PUBLIC
PRIORITY:5
BEGIN:VALARM
TRIGGER:-PT330M
ACTION:DISPLAY
DESCRIPTION:Reminder
END:VALARM
END:VEVENT
BEGIN:VEVENT
DTSTART:2016-05-06T01:00:00Z
DTEND:2016-05-06T03:30:00Z
LOCATION:HP1: Highland Park, Field 1
CATEGORIES:Softball,Bullseye Construction/Kona K,BB/SAA
UID:BDDD80637EB07C4CA8B8D4C314107E:
DTSTAMP:2026-04-21T10:27:34Z:
SUMMARY:Moneyballs at Bullseye Construction/Kona K
DESCRIPTION;ENCODING=QUOTED-PRINTABLE:Moneyballs at Bullseye Construction/Kona K=0D=0A Time: 6:00 PM=0D=0A Location: Highland Park, Field 1
CLASS:PUBLIC
PRIORITY:5
BEGIN:VALARM
TRIGGER:-PT180M
ACTION:DISPLAY
DESCRIPTION:Reminder
END:VALARM
END:VEVENT
BEGIN:VEVENT
DTSTART:2016-05-12T01:00:00Z
DTEND:2016-05-12T03:30:00Z
LOCATION:MM7: Marymoor, Field 7
CATEGORIES:Softball,Bullseye Construction/Kona K,BB/SAA
UID:438B2AD291D8C0478988F2ED9EA9F9CB:
DTSTAMP:2026-04-21T10:27:34Z:
SUMMARY:Bullseye Construction/Kona K at Pitches Be Trippin
DESCRIPTION;ENCODING=QUOTED-PRINTABLE:Bullseye Construction/Kona K at Pitches Be Trippin=0D=0A Time: 6:00 PM=0D=0A Location: Marymoor, Field 7
CLASS:PUBLIC
PRIORITY:5
BEGIN:VALARM
TRIGGER:-PT180M
ACTION:DISPLAY
DESCRIPTION:Reminder
END:VALARM
END:VEVENT
BEGIN:VEVENT
DTSTART:2016-05-19T01:00:00Z
DTEND:2016-05-19T03:30:00Z
LOCATION:MM7: Marymoor, Field 7
CATEGORIES:Softball,Bullseye Construction/Kona K,BB/SAA
UID:35738E72783A5408AFB6E3EFC6DB89A:
DTSTAMP:2026-04-21T10:27:34Z:
SUMMARY:Rolling Blackouts at Bullseye Construction/Kona K
DESCRIPTION;ENCODING=QUOTED-PRINTABLE:Rolling Blackouts at Bullseye Construction/Kona K=0D=0A Time: 6:00 PM=0D=0A Location: Marymoor, Field 7
CLASS:PUBLIC
PRIORITY:5
BEGIN:VALARM
TRIGGER:-PT180M
ACTION:DISPLAY
DESCRIPTION:Reminder
END:VALARM
END:VEVENT
BEGIN:VEVENT
DTSTART:2016-05-27T03:30:00Z
DTEND:2016-05-27T06:00:00Z
LOCATION:HV1: Hidden Valley, Field 1
CATEGORIES:Softball,Bullseye Construction/Kona K,BB/SAA
UID:279E614F588E334E87EF6EE4DD7FF5E8:
DTSTAMP:2026-04-21T10:27:34Z:
SUMMARY:Bullseye Construction/Kona K at Liquid Lime
DESCRIPTION;ENCODING=QUOTED-PRINTABLE:Bullseye Construction/Kona K at Liquid Lime=0D=0A Time: 8:30 PM=0D=0A Location: Hidden Valley, Field 1
CLASS:PUBLIC
PRIORITY:5
BEGIN:VALARM
TRIGGER:-PT330M
ACTION:DISPLAY
DESCRIPTION:Reminder
END:VALARM
END:VEVENT
BEGIN:VEVENT
DTSTART:2016-06-03T01:00:00Z
DTEND:2016-06-03T03:30:00Z
LOCATION:HV1: Hidden Valley, Field 1
CATEGORIES:Softball,Bullseye Construction/Kona K,BB/SAA
UID:232EA8862312564DB2AAE9595F13326:
DTSTAMP:2026-04-21T10:27:34Z:
SUMMARY:Regulators at Bullseye Construction/Kona K
DESCRIPTION;ENCODING=QUOTED-PRINTABLE:Regulators at Bullseye Construction/Kona K=0D=0A Time: 6:00 PM=0D=0A Location: Hidden Valley, Field 1
CLASS:PUBLIC
PRIORITY:5
BEGIN:VALARM
TRIGGER:-PT180M
ACTION:DISPLAY
DESCRIPTION:Reminder
END:VALARM
END:VEVENT
END:VCALENDAR
